Workbook

Sheet 目次
A1: ESGデータ（非財務） | K1: 森永乳業
A3: 報告期間
A4: 各種グラフ・表は原則として、年度（4月1日～翌年 3月31日）単位で集計した数値を掲載しています。
A5: ※海外事業所の環境データは1月1日～12月31日で集計
A8: データの集計範囲
A9: 各データの集計範囲については本報告書の各ページをご参照ください。
A12: 第三者保証
A13: 2025年度のエネルギー使用量、CO2排出量（スコープ１、スコープ2）、GHG排出量（スコープ3のカテゴリー1）について第三者保証を取得しています。
A15: ▶「 第三者保証 」
A18: 目次
A19: ■ 環境データ（P2~）
A20: ■ 社会データ（p11~）
A21: ■ ガバナンスデータ（p22~）

Sheet データ範囲、環境負荷の全体像（マテリアルフロー）
A1: 環境データ | O1: 森永乳業
A3: 第三者保証
A4: 2025年度のエネルギー使用量、CO2排出量（スコープ１、スコープ2）、GHG排出量（スコープ3のカテゴリー1）について第三者保証を取得しています。
A7: データの対象範囲
A8: 項目 | G8: 対象事業所
A9: スコープ1,2のCO2排出量 | G9: 森永乳業株式会社（国内生産事業所）、北海道保証牛乳株式会社、十勝浦幌森永乳業株式会社、日本製乳株式会社、東北森永乳業株式会社、横浜森永乳業株式会社、エムケーチーズ株式会社、冨士森永乳業株式会社、森永北陸乳業株式会社、広島森永乳業株式会社、熊本森永乳業株式会社、沖縄森永乳業株式会社、株式会社フリジポート、MILEI GmbH、Pacific Nutritional Foods, Inc.、Morinaga Nutritional Foods Vietnam Joint Stock Company、NutriCo Morinaga (Private) Limited、Turtle Island Foods, Inc. ※産業廃棄物再資源化率はPacific Nutritional Foods, Turtle Island Foods, Inc.を除く
A10: スコープ1,2のCO₂排出量削減率
A11: エネルギー使用量
A12: エネルギー使用量（原油換算）
A13: 石油由来バージンプラスチック使用量の削減率
A14: 製品生産量
A15: 産業廃棄物再資源化率
A16: 水資源使用量（取水量）
A17: 水資源使用量（取水量）削減率
A18: 排水量
A19: CO₂取り組み削減量 | G19: 森永乳業株式会社（国内生産事業所）、北海道保証牛乳株式会社、十勝浦幌森永乳業株式会社、日本製乳株式会社、東北森永乳業株式会社、横浜森永乳業株式会社、エムケーチーズ株式会社、冨士森永乳業株式会社、森永北陸乳業株式会社、広島森永乳業株式会社、熊本森永乳業株式会社、沖縄森永乳業株式会社、株式会社フリジポート
A20: フロン類算定漏えい量（CO₂換算）
A21: 国内生産拠点におけるISO14001認証取得・維持率
A22: 環境法令に関する罰金
A23: 水の質／量に関する罰金を伴う違反事例
A24: SOx、NOx
A25: 廃棄物量（産業廃棄物、食品廃棄物）
A26: 水質汚染の防止
A27: スコープ3のGHG排出量（国内） | G27: 森永乳業株式会社（国内生産事業所）、北海道保証牛乳株式会社、十勝浦幌森永乳業株式会社、日本製乳株式会社、東北森永乳業株式会社、横浜森永乳業株式会社、エムケーチーズ株式会社、冨士森永乳業株式会社、森永北陸乳業株式会社、広島森永乳業株式会社、熊本森永乳業株式会社、沖縄森永乳業株式会社
A28: スコープ3のGHG排出量削減率
A29: 原料使用量
A31: 包材使用量 | G31: 森永乳業株式会社が表示義務者であり、容器包装リサイクル法の対象となる商品 （国内で販売する家庭用商品の容器包装を対象として集計）
A33: ※各数値は表示単位未満を四捨五入しているため、合計値と内訳の合計は一致しない場合があります。
A36: 環境負荷の全体像（マテリアルフロー）
B37: 工場での使用 | J37: 工場からの排出
B39: エネルギー使用量（GWh） | C39: =[1]エネルギー使用量!M7/1000 -> 1603.006 | J39: CO2排出量(千トン-CO2) | K39: =[1]GHG排出量!M7 -> 246.8 | M39: 廃棄物発生量 | N39: =[1]廃棄物!M7 -> 34.7
B40: 燃料(GWh) | C40: =([1]エネルギー使用量!M8+[1]エネルギー使用量!M10)/1000 -> 1298.763 | J40: Scope1 | K40: =[1]GHG排出量!M8+[1]GHG排出量!M10 -> 231.5 | M40: 外部委託処理(千トン) | N40: =SUM([1]廃棄物!M8:M10) -> 28.015
B41: 購入した2次エネルギー(GWh) | C41: =([1]エネルギー使用量!M9+[1]エネルギー使用量!M11)/1000 -> 304.243 | J41: Scope2 | K41: =[1]GHG排出量!M9+[1]GHG排出量!M11 -> 15.4 | M41: 産業廃棄物 | N41: =[1]廃棄物!M8 -> 21.5
M42: 特別管理産業廃棄物 | N42: =[1]廃棄物!M9 -> 0.015
B43: 原料使用量(千トン) | C43: =[1]原材料!L7 -> 980 | J43: フロン類算定漏洩量(千トン-CO2) | K43: =[1]GHG排出量!M66 -> 4.9 | M43: 有価物・専ら物 | N43: =[1]廃棄物!M10 -> 6.5
B44: 包材使用量(千トン) | C44: =[1]原材料!L12 -> 40.5 | M44: 内部処理(場内処理) | N44: =[1]廃棄物!M11 -> 6.7
B45: ガラスびん(無色) | C45: =[1]原材料!L13 -> 0 | J45: 大気排出物(千トン)：
B46: ガラスびん(茶色) | C46: =[1]原材料!L14 -> 0 | J46: SOx(千トン) | K46: =[1]その他大気排出物!L7 -> 0.05
B47: ガラスびん(その他色) | C47: =[1]原材料!L15 -> 0 | J47: NOx(千トン) | K47: =[1]その他大気排出物!L8 -> 0.21
B48: PETボトル | C48: =[1]原材料!L16 -> 1.2
...

Sheet 環境マネジメント活動
A1: 環境データ | N1: 森永乳業
A3: 環境マネジメント活動
A5: 国内生産拠点におけるISO14001認証取得・維持率（森永乳業及び国内連結子会社）※
C6: 単位 | D6: 2021 | F6: 2022 | H6: 2023 | J6: 2024 | L6: 2025 | N6: 2030
D7: 実績 | F7: 実績 | H7: 実績 | J7: 実績 | L7: 実績 | N7: 目標
A8: 認証取得率 | C8: % | D8: 93 | F8: 96 | H8: 96 | J8: 100 | L8: 100 | N8: 1
A9: ※ | B9: 上記数値は年度末基準の数値
A12: 環境法令に関する罰金（森永乳業及び国内連結子会社）
C13: 単位 | D13: 2021 | F13: 2022 | H13: 2023 | J13: 2024 | L13: 2025
A14: 罰金件数 | C14: 件 | D14: 0 | F14: 0 | H14: 0 | J14: 0 | L14: 0
A17: 水の質／量に関する罰金を伴う違反事例（森永乳業及び国内連結子会社）
C18: 単位 | D18: 2021 | F18: 2022 | H18: 2023 | J18: 2024 | L18: 2025
A19: 違反件数 | C19: 件 | D19: 0 | F19: 0 | H19: 0 | J19: 0 | L19: 0

Sheet GHG排出量
A1: 環境データ | O1: 森永乳業
A3: 気候変動（GHG排出）
A5: スコープ1,2のCO₂排出量※1
D6: 単位 | E6: 2021 | G6: 2022 | I6: 2023 | K6: 2024 | M6: 2025
A7: 計 | D7: 千トン-CO₂ | E7: 303.4 | G7: 293.9 | I7: 277 | K7: 357.5 | M7: 246.8 | N7: ＊
B8: 国内 | C8: スコープ1 | D8: 千トン-CO₂ | E8: 210.9 | G8: 205.3 | I8: 188.2 | K8: 187.5 | M8: 179.5
C9: スコープ2 | D9: 千トン-CO₂ | E9: 92.5 | G9: 88.6 | I9: 88.8 | K9: 83.3 | M9: 4.6
B10: 海外 | C10: スコープ1 | D10: 千トン-CO₂ | E10: - | G10: - | I10: - | K10: 64.8 | M10: 52
C11: スコープ2 | D11: 千トン-CO₂ | E11: - | G11: - | I11: - | K11: 21.9 | M11: 10.8
A12: 売上高原単位※2 | D12: トン-CO₂/百万円 | E12: 0.66 | G12: 0.63 | I12: 0.569 | K12: 0.637 | L12: ※3 | M12: 0.432 | N12: ※3
A13: ※1 | B13: 算定基準：エネルギーの使用の合理化等に関する法律(省エネ法)および地球温暖化対策の推進に関する法律（温対法）、GHGプロトコルコーポレート基準およびスコープ2ガイダンスに基づく。
A15: ※2 | B15: 算定方法を変更
A16: ※3 | B16: 2024年度より算定バウンダリに海外生産5社を追加
A19: スコープ1,2のCO₂排出量削減率
D20: 単位 | E20: 2021 | G20: 2022 | I20: 2023 | K20: 2024 | M20: 2025 | O20: 2030
E21: 実績 | G21: 実績 | I21: 実績 | K21: 実績 | M21: 実績 | O21: 目標
A22: スコープ1+2 排出量削減率（2013年度比） | D22: % | E22: 20.5 | G22: 23 | I22: 27.5 | K22: 15.5 | L22: ※ | M22: 41.7 | O22: 0.5
A23: ※ | B23: 2024年度より、スコープ1,2排出量削減率の対象範囲に海外生産5社を追加
A26: CO₂取り組み削減量（設備投資と生産効率改善活動によるCO₂削減効果の積み上げ値）
D27: 単位 | E27: 2021 | G27: 2022 | I27: 2023 | K27: 2024 | M27: 2025
A28: 取り組み削減量 | D28: 千トン-CO₂ | E28: 8.1 | G28: 22.8 | I28: 9.8 | K28: 11.8 | M28: 14.6
A31: 環境データ | O31: 森永乳業
A33: 気候変動（GHG排出）
A35: スコープ3のGHG排出量
D36: 単位 | E36: 2021 | G36: 2022 | I36: 2023 | K36: 2024 | M36: 2025
A37: 計 | D37: 千トン-CO₂e | E37: 2153.1 | G37: 2088.1 | I37: 2090.4 | K37: 2186.1 | M37: 2154
B38: 1.購入した製品・サービス | D38: 千トン-CO₂e | E38: 1183.2 | G38: 1132.5 | I38: 1048.8 | K38: 1935.4 | L38: ※ | M38: 1879.5 | N38: ※＊
B39: 2.資本財 | D39: 千トン-CO₂e | E39: 56.5 | G39: 57.5 | I39: 120.8 | K39: 93.9 | M39: 123.5
B40: 3.その他燃料及びエネルギー関連活動 | D40: 千トン-CO₂e | E40: 55.2 | G40: 53.3 | I40: 53.7 | K40: 52.1 | M40: 52.2
B41: 4.輸送、配送(上流) | D41: 千トン-CO₂e | E41: 41.1 | G41: 39.2 | I41: 38.5 | K41: 32.8 | M41: 31.8
B42: 5.事業から出る廃棄物 | D42: 千トン-CO₂e | E42: 1.2 | G42: 1.2 | I42: 1.1 | K42: 1.1 | M42: 1.3
B43: 6.出張 | D43: 千トン-CO₂e | E43: 0.9 | G43: 0.9 | I43: 1 | K43: 1 | M43: 1
B44: 7.雇用者の通勤 | D44: 千トン-CO₂e | E44: 2 | G44: 2 | I44: 1.9 | K44: 1.9 | M44: 1.9
B45: 8.リース資産(上流) | D45: 千トン-CO₂e | E45: スコープ1、スコープ2に含めて算定
B46: 9.輸送、配送(下流) | D46: 千トン-CO₂e | E46: 794.1 | G46: 784.1 | I46: 807.7 | K46: 51.2 | L46: ※ | M46: 47 | N46: ※
B47: 10.販売した製品の加工 | D47: 千トン-CO₂e | E47: 事業活動との関連が少なく、算定から除外
B48: 11.販売した製品の使用 | D48: 千トン-CO₂e | E48: 1.1 | G48: 1.2 | I48: 1.2 | K48: 0.9 | M48: 1.1
B49: 12.販売した製品の廃棄 | D49: 千トン-CO₂e | E49: 17.8 | G49: 16.4 | I49: 15.7 | K49: 15.7 | M49: 14.7
B50: 13.リース資産(下流) | D50: 千トン-CO₂e | E50: 事業活動との関連が少なく、算定から除外
B51: 14.フランチャイズビジネスからの発生 | D51: 千トン-CO₂e | E51: 事業活動との関連が少なく、算定から除外
...

Sheet エネルギー使用量
A1: 環境データ | N1: 森永乳業
A3: 気候変動（エネルギー使用量）
A5: エネルギー使用量 ※1
D6: 単位 | E6: 2021 | G6: 2022 | I6: 2023 | K6: 2024 | M6: 2025
A7: 計 | D7: MWh | E7: 1332157 | G7: 1291109 | I7: 1230425.3 | K7: 1732124 | M7: 1603006 | N7: ※5
B8: 燃料※2 | D8: MWh | E8: 1141372 | G8: 1109153 | I8: 1046300.7 | K8: 1070584 | M8: 1040362
B9: 購入した2次エネルギー※3 | D9: MWh | E9: 190785 | G9: 181956 | I9: 184124.56 | K9: 182930 | M9: 200580
B10: 燃料※2 | D10: MWh | E10: - | G10: - | I10: - | K10: 317758 | M10: 258401
B11: 購入した2次エネルギー※3 | D11: MWh | E11: - | G11: - | I11: - | K11: 115354 | M11: 103663
A12: 売上高原単位※4 | D12: MWh/百万円 | E12: 2.899 | G12: 2.769 | I12: 2.528 | K12: 3.087 | L12: ※6 | M12: 2.805 | N12: ※6
A13: 売上高 | D13: 百万円 | E13: 503354 | G13: 525603 | I13: 547059 | K13: 561173 | M13: 571458
A14: ※1 | B14: 算定基準：燃料及び購入した2次エネルギー（電力、蒸気、温水）の熱量換算係数は、エネルギーの使用の合理化及び非化石エネルギーへの転換等に関する法律（省エネ法）による
B16: バウンダリは、ISO14064-1による
A17: ※2 | B17: 燃料は、化石燃料による発熱量を示す。また3.6GJ=1,000kWhとして換算する。バイオマスエネルギーなどの再生可能エネルギーは含まない。
A18: ※3 | B18: 購入した2次エネルギーは電力、蒸気および温水の合計。
A19: ※4 | B19: 算定方法を変更
A20: ※5 | B20: 自家発電量を含めた1,658,769MWhについて第三者保証を受けた。うち、2025年度の再生可能エネルギー使用量は239,511MWhであった。
A21: ※6 | B21: 2024年度より算定バウンダリに海外生産5社を追加
A24: エネルギー使用量（原油換算）
D25: 単位 | E25: 2021 | G25: 2022 | I25: 2023 | K25: 2024 | M25: 2025
A26: 計 | D26: 千kL | E26: 153.67 | G26: 148.56 | I26: 138.22 | K26: 184.88 | M26: 179.81
B27: 国内 | C27: 燃料※1 | D27: 千kL | E27: 105.95 | G27: 103.02 | I27: 97.18 | K27: 99.44 | M27: 96.63
C28: 電力※1 | D28: 千kL | E28: 47.72 | G28: 45.54 | I28: 41.04 | K28: 40.99 | M28: 45.02
B29: 海外 | C29: 燃料 | D29: 千kL | E29: - | G29: - | I29: - | K29: 29.51 | M29: 24
C30: 電力 | D30: 千kL | E30: - | G30: - | I30: - | K30: 14.94 | M30: 14.16
A31: 売上高原単位※2 | D31: kL/百万円 | E31: 0.334 | G31: 0.319 | I31: 0.284 | K31: 0.329 | L31: ※3 | M31: 0.315 | N31: ※3
A32: ※1 | B32: エネルギーの使用の合理化及び非化石エネルギーへの転換等に関する法律（省エネ法）に基づき算定
A33: ※2 | B33: 算定方法を変更
A34: ※3 | B34: 2024年度より算定バウンダリに海外生産5社を追加

Sheet その他大気排出物
A1: 環境データ | M1: 森永乳業
A3: その他大気排出物
A5: SOx、Nox
C6: 単位 | D6: 2021 | F6: 2022 | H6: 2023 | J6: 2024 | L6: 2025
A7: SOx | C7: 千トン | D7: 0.04 | E7: ※ | F7: 0.05 | G7: ※ | H7: 0.05 | J7: 0.05 | L7: 0.05
A8: NOx | C8: 千トン | D8: 0.23 | E8: ※ | F8: 0.27 | G8: ※ | H8: 0.26 | J8: 0.18 | L8: 0.21
A9: ※ | B9: 2022年度以前の集計範囲は、株式会社フリジポート 沖縄うるま工場を除いた範囲

Sheet 原材料
A1: 環境データ | O1: 森永乳業
A3: 原材料
A5: 原料使用量
C6: 単位 | D6: 2021 | F6: 2022 | H6: 2023 | J6: 2024 | L6: 2025
A7: 原料使用量 | C7: 千トン | D7: 1154 | F7: 1105 | H7: 1003 | J7: 999 | L7: 980
A10: 包材使用量
C11: 単位 | D11: 2021 | F11: 2022 | H11: 2023 | J11: 2024 | L11: 2025
A12: 計 | C12: 千トン | D12: 64.9 | F12: 60.1 | H12: 55.4 | J12: 42 | L12: 40.5
B13: ガラスびん（無色） | C13: 千トン | D13: 17.1 | F13: 16.1 | H13: 13 | J13: 0 | L13: 0
B14: ガラスびん（茶色） | C14: 千トン | D14: 0 | F14: 0 | H14: 0 | J14: 0 | L14: 0
B15: ガラスびん（その他色） | C15: 千トン | D15: 0 | F15: 0 | H15: 0 | J15: 0 | L15: 0
B16: PETボトル | C16: 千トン | D16: 1.6 | F16: 1.6 | H16: 1.2 | J16: 1.2 | L16: 1.2
B17: プラスチック製容器包装 | C17: 千トン | D17: 18.5 | E17: ※ | F17: 16.8 | G17: ※ | H17: 16.1 | I17: ※ | J17: 15.9 | L17: 15
B18: 紙製容器包装 | C18: 千トン | D18: 12 | F18: 11.8 | H18: 11.1 | J18: 11.1 | L18: 10.9
B19: 紙パック | C19: 千トン | D19: 14.9 | F19: 13 | H19: 13.1 | J19: 12.7 | L19: 11.5
B20: スチール缶（粉乳） | C20: 千トン | D20: 0.9 | F20: 0.8 | H20: 0.8 | J20: 0.7 | L20: 0.9
B21: アルミ缶 | C21: 千トン | D21: 0 | F21: 0 | H21: 0 | J21: 0 | L21: 0
A22: ※ | B22: プラスチック製容器包装：容器包装リサイクル協会への再商品化委託申し込みの根拠となる数量+自主回収を行った数量の計
A25: 石油由来バージンプラスチック使用量の削減率※１
C26: 単位 | D26: 2021 | F26: 2022 | H26: 2023 | J26: 2024 | L26: 2025 | N26: 2030
D27: 実績 | F27: 実績 | H27: 実績 | J27: 実績 | L27: 実績 | N27: 目標
A28: 石油由来バージンプラスチック使用量の削減率(2013年度比） | C28: ％ | D28: 15.2 | F28: 22.9 | H28: 25.6 | J28: 24.9 | L28: 26.5 | M28: ※2 | N28: 0.25
D29: 0 | F29: 0 | H29: 0 | J29: 0 | L29: 0
A30: ※1 | B30: 集計対象：家庭用商品のプラスチック容器包装を対象として集計
A31: ※2 | B31: 2025年度より算定バウンダリに海外生産5社を追加
A34: 製品生産量
C35: 単位 | D35: 2021 | F35: 2022 | H35: 2023 | J35: 2024 | L35: 2025
A36: 製品生産量 | C36: 千トン | D36: 1268 | F36: 1181 | H36: 1119 | J36: 1090 | L36: 1169 | M36: ※
A37: ※ | B37: 2025年度より算定バウンダリに海外生産5社を追加

Sheet 廃棄物
A1: 環境データ | P1: 森永乳業
A3: 廃棄物
A5: 廃棄物量（産業廃棄物、食品廃棄物）※1
D6: 単位 | E6: 2021 | G6: 2022 | I6: 2023 | K6: 2024 | M6: 2025
A7: 廃棄物発生量合計 | D7: 千トン | E7: 41.6 | G7: 39.7 | I7: 36.2 | K7: 34.5 | M7: 34.7
B8: 外部委託処理 | C8: 産業廃棄物※2 | D8: 千トン | E8: 22.6 | G8: 21.6 | I8: 20.4 | K8: 20.3 | M8: 21.5
C9: 特別管理産業廃棄物 | D9: 千トン | E9: 0.03 | G9: 0.033 | I9: 0.011 | K9: 0.01 | M9: 0.015
C10: 有価物・専ら物 | D10: 千トン | E10: 9.7 | G10: 9.5 | I10: 8.8 | K10: 7.7 | M10: 6.5
B11: 内部処理（場内処理） | D11: 千トン | E11: 9.3 | G11: 8.5 | I11: 6.9 | K11: 6.5 | M11: 6.7
D13: 単位 | E13: 2021 | G13: 2022 | I13: 2023 | K13: 2024 | M13: 2025
A14: 食品廃棄物発生量※3 | D14: 千トン | E14: 16.1 | G14: 16.5 | I14: 16.2 | K14: 14.9 | M14: 15.2
A15: 埋立廃棄物量※4 | D15: 千トン | E15: 0.273 | G15: 0.234 | I15: 0.182 | K15: 0.131 | M15: 0.105
D17: 単位 | E17: 2021 | G17: 2022 | I17: 2023 | K17: 2024 | M17: 2025
A18: 廃棄物発生量原単位※5 | D18: トン/百万円 | E18: 0.091 | G18: 0.085 | I18: 0.074 | K18: 0.07 | M18: 0.072
A19: 産業廃棄物排出量原単位※6 | D19: トン/百万円 | E19: 0.049 | G19: 0.046 | I19: 0.042 | K19: 0.041 | M19: 0.044
A20: 食品廃棄物発生量原単位※7 | D20: トン/百万円 | E20: 0.035 | G20: 0.035 | I20: 0.033 | K20: 0.03 | M20: 0.031
A21: ※1 | B21: 2021年度の廃棄物の集計範囲は、株式会社フリジポート 沖縄うるま工場を除いた範囲
A22: ※2 産業廃棄物排出量：事業活動に伴って生じた廃棄物のうち、外部の業者で委託処理を行った廃棄物の量（マニフェストを発行したものが対象）。有価で引き取られたものは含まない。 | B22: 産業廃棄物排出量：事業活動に伴って生じた廃棄物のうち、外部の業者で委託処理を行った廃棄物の量（マニフェストを発行したものが対象）。 有価で引き取られたものは含まない。
A23: ※3 産業廃棄物排出量：事業活動に伴って生じた廃棄物のうち、外部の業者で委託処理を行った廃棄物の量（マニフェストを発行したものが対象）。有価で引き取られたものは含まない。 | B23: 食品廃棄物発生量：産業廃棄物、一般廃棄物、有価物、場内処理した動植物性残渣の量
A24: ※4 | B24: 埋立廃棄物量：廃棄物（産業廃棄物、一般廃棄物、有価物、場内処理）のうち、埋立処理される廃棄物の量
A25: ※5 | B25: 算定方法を変更
A26: ※6 | B26: 産業廃棄物排出量原単位：各年度の産業廃棄物排出量（トン）を売上高(百万円)で除した数値、算定方法を変更
A27: ※7 | B27: 食品廃棄物発生量原単位：各年度の食品廃棄物発生量（トン）を売上高(百万円)で除した数値、算定方法を変更
A30: 産業廃棄物再資源化率※1
D31: 単位 | E31: 2021 | G31: 2022 | I31: 2023 | K31: 2024 | M31: 2025 | O31: 2030
E32: 実績 | G32: 実績 | I32: 実績 | K32: 実績 | M32: 実績 | O32: 目標
A33: 産業廃棄物再資源化率 | D33: ％ | E33: 99.2 | G33: 99.3 | I33: 99.4 | K33: 99.7 | M33: 97.7 | N33: ※2 | O33: ゼロ エミッション (99.5%)
A34: ※1 | B34: 産業廃棄物再資源化率：年間で排出した産業廃棄物及び特別管理産業廃棄物のうち、再資源化された量（千トン）を産業廃棄物排出量（千トン）で除した数値
A35: ※2 | B35: 2025年度より集計バウンダリに海外生産3社（MILEI GmbH、Morinaga Nutritional Foods Vietnam Joint Stock Company、NutriCo Morinaga (Private) Limited）を追加

Sheet 水資源
A1: 環境データ | O1: 森永乳業
A3: 水資源
A5: 水資源使用量（取水量）
D6: 単位 | E6: 2021 | G6: 2022 | I6: 2023 | K6: 2024 | M6: 2025
A7: 水資源使用量（取水量）合計 | D7: 千m3 | E7: 17179 | G7: 16169 | I7: 15697 | K7: 15498 | M7: 17626
B8: 国内 | C8: 表層水（河川水） | D8: 千m3 | E8: 484 | G8: 482 | I8: 466 | K8: 448 | M8: 444
C9: 地下⽔（井⽔、湧⽔） | D9: 千m3 | E9: 11916 | G9: 11356 | I9: 10869 | K9: 10602 | M9: 10778
C10: 自治体から購入（市水、上水、工業用水、公共原水） | D10: 千m3 | E10: 4779 | G10: 4331 | I10: 4362 | K10: 4448 | M10: 4553
B11: 海外 | C11: 表層水（河川水） | D11: 千m3 | E11: - | G11: - | I11: - | K11: - | M11: 0
C12: 地下⽔（井⽔、湧⽔） | D12: 千m3 | E12: - | G12: - | I12: - | K12: - | M12: 117
C13: 自治体から購入（市水、上水、工業用水、公共原水） | D13: 千m3 | E13: - | G13: - | I13: - | K13: - | M13: 1734
A14: 売上高原単位※1 | D14: m3/百万円 | E14: 37.4 | G14: 34.7 | I14: 32.3 | K14: 31.5 | M14: 30.8 | N14: ※3
A15: 製品生産量原単位※2 | D15: m3/トン | E15: 13.5 | G15: 13.7 | I15: 14 | K15: 14.2 | M15: 15.1 | N15: ※3
A16: ※1 | B16: 算定方法を変更
A17: ※2 | B17: 製品生産量原単位は、水資源使用量合計(ｍ3)を製品生産量(トン)で除した数値
A18: ※3 | B18: 2025年度より算定バウンダリに海外生産5社を追加
A21: 水資源使用量（取水量）削減率
D22: 単位 | E22: 2021 | G22: 2022 | I22: 2023 | K22: 2024 | M22: 2025 | O22: 2030
E23: 実績 | G23: 実績 | I23: 実績 | K23: 実績 | M23: 実績 | O23: 目標
A24: 水資源使用量（取水量）削減率（2013年度比） | D24: % | E24: 8.7 | G24: 14.1 | I24: 16.6 | K24: 17.7 | M24: 11 | N24: ※ | O24: 0.15
A25: ※ | B25: 2025年度より算定バウンダリに海外生産5社を追加
A28: 排水量
D29: 単位 | E29: 2021 | G29: 2022 | I29: 2023 | K29: 2024 | M29: 2025
A30: 計 | D30: 千m3 | E30: 15596 | G30: 14909 | I30: 14363 | K30: 14284 | M30: 16328
B31: 国内 | C31: 海洋放流 | D31: 千m3 | E31: 2360 | G31: 2282 | I31: 2180 | K31: 2205 | M31: 2202
C32: 河川放流 | D32: 千m3 | E32: 12046 | G32: 11477 | I32: 11030 | K32: 10857 | M32: 10741
C33: 下水放流 | D33: 千m3 | E33: 1190 | G33: 1150 | I33: 1152 | K33: 1222 | M33: 1246
B34: 海外 | C34: 海洋放流 | D34: 千m3 | E34: - | G34: - | I34: - | K34: - | M34: -
C35: 河川放流 | D35: 千m3 | E35: - | G35: - | I35: - | K35: - | M35: 23
C36: 下水放流 | D36: 千m3 | E36: - | G36: - | I36: - | K36: - | M36: 2116
A39: 水質汚染の防止＊＊
D40: 単位 | E40: 2023 | G40: 2024 | I40: 2025
A41: 総BOD排出量 | D41: トン | E41: 45.5 | G41: 22.9 | I41: 27
